BEGIN:VCALENDAR
VERSION:2.0
PRODID:-//eventon.com NONSGML v1.0//EN
CALSCALE:GREGORIAN
METHOD:PUBLISH
BEGIN:VEVENT
UID:69e4da1691ee1
DTSTAMP:20260419T133518Z
DTSTART:20211103
DTEND:20211104
LOCATION:
SUMMARY:Edu-Dance Lessons
DESCRIPTION:Every Wednesday for all classes\,  except Rm 11\,  1 and 3 (Tue
 sdays). Runs between Wks 2-10.\nhttps://leemingps.wa.edu.au/events/edu-danc
 e-lessons-10/
URL:https://leemingps.wa.edu.au/events/edu-dance-lessons-10/
END:VEVENT
END:VCALENDAR