BEGIN:VCALENDAR
VERSION:2.0
PRODID:-//eventon.com NONSGML v1.0//EN
CALSCALE:GREGORIAN
METHOD:PUBLISH
BEGIN:VEVENT
UID:69ebabed6d190
DTSTAMP:20260424T174413Z
DTSTART:20180208T083000Z
DTEND:20180208T020000Z
LOCATION:
SUMMARY:Canteen Open
DESCRIPTION:We are pleased to advise that the canteen will be re-opening to
 day.&nbsp; Canteen Menu 2018 &#8211; Term 1\nhttps://leemingps.wa.edu.au/ev
 ents/canteen-open/
URL:https://leemingps.wa.edu.au/events/canteen-open/
END:VEVENT
END:VCALENDAR