BEGIN:VCALENDAR
VERSION:2.0
PRODID:-//eventon.com NONSGML v1.0//EN
CALSCALE:GREGORIAN
METHOD:PUBLISH
BEGIN:VEVENT
UID:69eb920128f82
DTSTAMP:20260424T155337Z
DTSTART:20180219T190000Z
DTEND:20180219T203000Z
LOCATION:Leeming Primary School - Staff Room
SUMMARY:P&C AGM - Everybody Welcome
DESCRIPTION:P&C AGM - Everybody Welcome\nhttps://leemingps.wa.edu.au/events
 /pc-agm-everybody-welcome/
URL:https://leemingps.wa.edu.au/events/pc-agm-everybody-welcome/
END:VEVENT
END:VCALENDAR