BEGIN:VCALENDAR
VERSION:2.0
PRODID:-//eventon.com NONSGML v1.0//EN
CALSCALE:GREGORIAN
METHOD:PUBLISH
BEGIN:VEVENT
UID:69eb928cb9320
DTSTAMP:20260424T155556Z
DTSTART:20180201T085000Z
DTEND:20180201T030000Z
LOCATION:Leeming Primary School 10 Meharry Road Leeming
SUMMARY:Kindy Group B Students Commence
DESCRIPTION:Welcome to our Kindy Students\nhttps://leemingps.wa.edu.au/even
 ts/kindy-group-b-students-commence/
URL:https://leemingps.wa.edu.au/events/kindy-group-b-students-commence/
END:VEVENT
END:VCALENDAR